BEGIN:VCALENDAR
VERSION:2.0
PRODID:-//Bradeur.fr//FR
CALSCALE:GREGORIAN
METHOD:PUBLISH
BEGIN:VEVENT
UID:925-comite-de-quartier-croix-saint-pierre-vide-greniers@bradeur.fr
DTSTAMP:20260425T192658Z
DTSTART:20260606T080000
DTEND:20260606T160000
SUMMARY:Comité de quartier Croix Saint Pierre — Vide-greniers
DESCRIPTION:Samedi 6 Juin 2026\nde 8h00 à 16h00\n\nComité de quartier Cro
 ix Saint Pierre\n59170 Croix
LOCATION:59170 Croix
URL:https://bradeur.fr/braderie.php?slug=comite-de-quartier-croix-saint-pie
 rre-vide-greniers
END:VEVENT
END:VCALENDAR
