BEGIN:VCALENDAR
VERSION:2.0
PRODID:-//Bradeur.fr//FR
CALSCALE:GREGORIAN
METHOD:PUBLISH
BEGIN:VEVENT
UID:889-comite-de-quartier-du-centre-braderie@bradeur.fr
DTSTAMP:20260425T193529Z
DTSTART:20260524T070000
DTEND:20260524T150000
SUMMARY:Comité de Quartier du Centre — Braderie
DESCRIPTION:Dimanche 24 Mai 2026\nde 7h00 à 15h00\n\nComité de Quartier d
 u Centre\n59390 Lys Lez Lannoy
LOCATION:59390 Lys Lez Lannoy
URL:https://bradeur.fr/braderie.php?slug=comite-de-quartier-du-centre-brade
 rie
END:VEVENT
END:VCALENDAR
