BEGIN:VCALENDAR
VERSION:2.0
PRODID:-//Bradeur.fr//FR
CALSCALE:GREGORIAN
METHOD:PUBLISH
BEGIN:VEVENT
UID:551-comite-de-quartier-henriville-cq-henriville-couture@bradeur.fr
DTSTAMP:20260425T180841Z
DTSTART:20260328T090000
DTEND:20260328T160000
SUMMARY:Comité de quartier Henriville — Cq Henriville Couture
DESCRIPTION:Samedi 28 Mars 2026\nde 9h00 à 16h00\n\nComité de quartier He
 nriville\n80000 Amiens
LOCATION:80000 Amiens
URL:https://bradeur.fr/braderie.php?slug=comite-de-quartier-henriville-cq-h
 enriville-couture
END:VEVENT
END:VCALENDAR
