BEGIN:VCALENDAR
VERSION:2.0
PRODID:-//Bradeur.fr//FR
CALSCALE:GREGORIAN
METHOD:PUBLISH
BEGIN:VEVENT
UID:870-comite-de-quartier-ile-de-flandre-vide-greniers@bradeur.fr
DTSTAMP:20260425T205903Z
DTSTART:20260517T080000
DTEND:20260517T160000
SUMMARY:Comité de Quartier " Ile de Flandre " — Vide-greniers
DESCRIPTION:Dimanche 17 Mai 2026\nde 8h00 à 16h00\n\nComité de Quartier "
  Ile de Flandre "\n59280 Armentieres
LOCATION:59280 Armentieres
URL:https://bradeur.fr/braderie.php?slug=comite-de-quartier-ile-de-flandre-
 vide-greniers
END:VEVENT
END:VCALENDAR
