BEGIN:VCALENDAR
VERSION:2.0
PRODID:-//Bradeur.fr//FR
CALSCALE:GREGORIAN
METHOD:PUBLISH
BEGIN:VEVENT
UID:613-comite-des-fete-du-petit-paris-brocante@bradeur.fr
DTSTAMP:20260425T180724Z
DTSTART:20260405T080000
DTEND:20260405T170000
SUMMARY:comité des fête du petit Paris — Brocante
DESCRIPTION:Dimanche 5 Avril 2026\nde 8h00 à 17h00\n\ncomité des fête du
  petit Paris\n59590 Raismes
LOCATION:59590 Raismes
URL:https://bradeur.fr/braderie.php?slug=comite-des-fete-du-petit-paris-bro
 cante
END:VEVENT
END:VCALENDAR
