BEGIN:VCALENDAR
VERSION:2.0
PRODID:-//Bradeur.fr//FR
CALSCALE:GREGORIAN
METHOD:PUBLISH
BEGIN:VEVENT
UID:1052-comite-des-fetes-aux-4-chemins-vide-greniers@bradeur.fr
DTSTAMP:20260425T180725Z
DTSTART:20260823T080000
DTEND:20260823T200000
SUMMARY:Comité des fêtes aux 4 chemins — Vide-greniers
DESCRIPTION:Somain est une commune française située dans le département 
 du département du Nord (59), en région Hauts-de-France.\n\nDimanche 23 Ao
 ût 2026\nde 8h00 à 20h00\n\nComité des fêtes aux 4 chemins\n59490 Somai
 n
LOCATION:59490 Somain
URL:https://bradeur.fr/braderie.php?slug=comite-des-fetes-aux-4-chemins-vid
 e-greniers
END:VEVENT
END:VCALENDAR
