BEGIN:VCALENDAR
VERSION:2.0
PRODID:-//Bradeur.fr//FR
CALSCALE:GREGORIAN
METHOD:PUBLISH
BEGIN:VEVENT
UID:791-comite-des-fetes-braderie@bradeur.fr
DTSTAMP:20260425T193637Z
DTSTART:20260503T070000
DTEND:20260503T140000
SUMMARY:Comité des Fêtes — Braderie
DESCRIPTION:Site officiel de la commune de Prémesques, retrouvez-y l'ensem
 ble des informations relatives à la vie de la commune et à la municipalit
 é !\n\nDimanche 3 Mai 2026\nde 7h00 à 14h00\n\nComité des Fêtes\n59840 
 Premesques
LOCATION:59840 Premesques
URL:https://bradeur.fr/braderie.php?slug=comite-des-fetes-braderie
END:VEVENT
END:VCALENDAR
