BEGIN:VCALENDAR
VERSION:2.0
PRODID:-//Bradeur.fr//FR
CALSCALE:GREGORIAN
METHOD:PUBLISH
BEGIN:VEVENT
UID:1038-comite-des-fetes-braderie-1@bradeur.fr
DTSTAMP:20260425T204737Z
DTSTART:20260809T070000
DTEND:20260809T140000
SUMMARY:Comité des Fêtes — Braderie
DESCRIPTION:Site officiel de la commune de Prémesques, retrouvez-y l'ensem
 ble des informations relatives à la vie de la commune et à la municipalit
 é !\n\nDimanche 9 Août 2026\nde 7h00 à 14h00\n\nComité des Fêtes\n5984
 0 Premesques
LOCATION:59840 Premesques
URL:https://bradeur.fr/braderie.php?slug=comite-des-fetes-braderie-1
END:VEVENT
END:VCALENDAR
