BEGIN:VCALENDAR
VERSION:2.0
PRODID:-//Bradeur.fr//FR
CALSCALE:GREGORIAN
METHOD:PUBLISH
BEGIN:VEVENT
UID:548-comite-des-fetes-brocante@bradeur.fr
DTSTAMP:20260425T180123Z
DTSTART:20260328T100000
DTEND:20260328T170000
SUMMARY:Comité des Fêtes — Brocante
DESCRIPTION:Samedi 28 Mars 2026\nde 10h00 à 17h00\n\nComité des Fêtes\n6
 2142 Belle Et Houllefort
LOCATION:62142 Belle Et Houllefort
URL:https://bradeur.fr/braderie.php?slug=comite-des-fetes-brocante
END:VEVENT
END:VCALENDAR
