BEGIN:VCALENDAR
VERSION:2.0
PRODID:-//Bradeur.fr//FR
CALSCALE:GREGORIAN
METHOD:PUBLISH
BEGIN:VEVENT
UID:584-comite-des-fetes-brocante-1@bradeur.fr
DTSTAMP:20260425T180258Z
DTSTART:20260329T070000
DTEND:20260329T170000
SUMMARY:Comité des Fêtes — Brocante
DESCRIPTION:Dimanche 29 Mars 2026\nde 7h00 à 17h00\n\nComité des Fêtes\n
 62120 Racquinghem
LOCATION:62120 Racquinghem
URL:https://bradeur.fr/braderie.php?slug=comite-des-fetes-brocante-1
END:VEVENT
END:VCALENDAR
