BEGIN:VCALENDAR
VERSION:2.0
PRODID:-//Bradeur.fr//FR
CALSCALE:GREGORIAN
METHOD:PUBLISH
BEGIN:VEVENT
UID:981-comite-des-fetes-brocante-10@bradeur.fr
DTSTAMP:20260426T022320Z
DTSTART:20260627T080000
DTEND:20260627T180000
SUMMARY:Comité des Fêtes — Brocante
DESCRIPTION:Samedi 27 Juin 2026\nde 8h00 à 18h00\n\nComité des Fêtes\n59
 190 Wallon Cappel
LOCATION:59190 Wallon Cappel
URL:https://bradeur.fr/braderie.php?slug=comite-des-fetes-brocante-10
END:VEVENT
END:VCALENDAR
