BEGIN:VCALENDAR
VERSION:2.0
PRODID:-//Bradeur.fr//FR
CALSCALE:GREGORIAN
METHOD:PUBLISH
BEGIN:VEVENT
UID:991-comite-des-fetes-brocante-11@bradeur.fr
DTSTAMP:20260426T022208Z
DTSTART:20260628T080000
DTEND:20260628T180000
SUMMARY:Comité des Fêtes — Brocante
DESCRIPTION:Dimanche 28 Juin 2026\nde 8h00 à 18h00\n\nComité des Fêtes\n
 62560 Audincthun
LOCATION:62560 Audincthun
URL:https://bradeur.fr/braderie.php?slug=comite-des-fetes-brocante-11
END:VEVENT
END:VCALENDAR
