BEGIN:VCALENDAR
VERSION:2.0
PRODID:-//Bradeur.fr//FR
CALSCALE:GREGORIAN
METHOD:PUBLISH
BEGIN:VEVENT
UID:1061-comite-des-fetes-brocante-13@bradeur.fr
DTSTAMP:20260425T205030Z
DTSTART:20260830T080000
DTEND:20260830T180000
SUMMARY:Comité des Fêtes — Brocante
DESCRIPTION:Toutes les informations sur votre commune de la Capelle-lès-Bo
 ulogne, actualités à venir, agenda, démarches administratives\n\nDimanch
 e 30 Août 2026\nde 8h00 à 18h00\n\nComité des Fêtes\n62360 La Capelle L
 es Boulogne
LOCATION:62360 La Capelle Les Boulogne
URL:https://bradeur.fr/braderie.php?slug=comite-des-fetes-brocante-13
END:VEVENT
END:VCALENDAR
