BEGIN:VCALENDAR
VERSION:2.0
PRODID:-//Bradeur.fr//FR
CALSCALE:GREGORIAN
METHOD:PUBLISH
BEGIN:VEVENT
UID:610-comite-des-fetes-brocante-2@bradeur.fr
DTSTAMP:20260425T180133Z
DTSTART:20260405T080000
DTEND:20260405T180000
SUMMARY:Comite des Fêtes — Brocante
DESCRIPTION:Dimanche 5 Avril 2026\nde 8h00 à 18h00\n\nComite des Fêtes\n5
 9231 Gonnelieu
LOCATION:59231 Gonnelieu
URL:https://bradeur.fr/braderie.php?slug=comite-des-fetes-brocante-2
END:VEVENT
END:VCALENDAR
