BEGIN:VCALENDAR
VERSION:2.0
PRODID:-//Bradeur.fr//FR
CALSCALE:GREGORIAN
METHOD:PUBLISH
BEGIN:VEVENT
UID:628-comite-des-fetes-brocante-3@bradeur.fr
DTSTAMP:20260425T180159Z
DTSTART:20260404T080000
DTEND:20260404T180000
SUMMARY:Comité des Fêtes — Brocante
DESCRIPTION:Toutes les informations sur votre commune de la Capelle-lès-Bo
 ulogne, actualités à venir, agenda, démarches administratives\n\nSamedi 
 4 Avril 2026\nde 8h00 à 18h00\n\nComité des Fêtes\n62360 La Capelle Les 
 Boulogne
LOCATION:62360 La Capelle Les Boulogne
URL:https://bradeur.fr/braderie.php?slug=comite-des-fetes-brocante-3
END:VEVENT
END:VCALENDAR
