BEGIN:VCALENDAR
VERSION:2.0
PRODID:-//Bradeur.fr//FR
CALSCALE:GREGORIAN
METHOD:PUBLISH
BEGIN:VEVENT
UID:735-comite-des-fetes-brocante-4@bradeur.fr
DTSTAMP:20260425T235138Z
DTSTART:20260426T080000
DTEND:20260426T140000
SUMMARY:Comité des Fêtes — Brocante
DESCRIPTION:Dimanche 26 Avril 2026\nde 8h00 à 14h00\n\nComité des Fêtes\
 n59870 Marchiennes
LOCATION:59870 Marchiennes
URL:https://bradeur.fr/braderie.php?slug=comite-des-fetes-brocante-4
END:VEVENT
END:VCALENDAR
