BEGIN:VCALENDAR
VERSION:2.0
PRODID:-//Bradeur.fr//FR
CALSCALE:GREGORIAN
METHOD:PUBLISH
BEGIN:VEVENT
UID:754-comite-des-fetes-brocante-5@bradeur.fr
DTSTAMP:20260426T032154Z
DTSTART:20260426T090000
DTEND:20260426T170000
SUMMARY:Comité des Fêtes — Brocante
DESCRIPTION:Dimanche 26 Avril 2026\nde 9h00 à 17h00\n\nComité des Fêtes\
 n62120 Roquetoire
LOCATION:62120 Roquetoire
URL:https://bradeur.fr/braderie.php?slug=comite-des-fetes-brocante-5
END:VEVENT
END:VCALENDAR
