BEGIN:VCALENDAR
VERSION:2.0
PRODID:-//Bradeur.fr//FR
CALSCALE:GREGORIAN
METHOD:PUBLISH
BEGIN:VEVENT
UID:966-comite-des-fetes-brocante-9@bradeur.fr
DTSTAMP:20260426T022346Z
DTSTART:20260614T080000
DTEND:20260614T170000
SUMMARY:Comité des Fêtes — Brocante
DESCRIPTION:Dimanche 14 Juin 2026\nde 8h00 à 17h00\n\nComité des Fêtes\n
 62380 Affringues
LOCATION:62380 Affringues
URL:https://bradeur.fr/braderie.php?slug=comite-des-fetes-brocante-9
END:VEVENT
END:VCALENDAR
