BEGIN:VCALENDAR
VERSION:2.0
PRODID:-//Bradeur.fr//FR
CALSCALE:GREGORIAN
METHOD:PUBLISH
BEGIN:VEVENT
UID:1144-comite-des-fetes-comite-des-fetes-noel@bradeur.fr
DTSTAMP:20260425T180319Z
DTSTART:20261205T080000
DTEND:20261206T180000
SUMMARY:Comité des Fêtes — Comite Des Fetes Noel
DESCRIPTION:Toutes les informations sur votre commune de la Capelle-lès-Bo
 ulogne, actualités à venir, agenda, démarches administratives\n\nSamedi 
 5 Décembre 2026\nde 8h00 à 18h00\n\nDimanche 6 Décembre 2026\nde 8h00 à
  18h00\n\nComité des Fêtes\n62360 La Capelle Les Boulogne
LOCATION:62360 La Capelle Les Boulogne
URL:https://bradeur.fr/braderie.php?slug=comite-des-fetes-comite-des-fetes-
 noel
END:VEVENT
END:VCALENDAR
