BEGIN:VCALENDAR
VERSION:2.0
PRODID:-//Bradeur.fr//FR
CALSCALE:GREGORIAN
METHOD:PUBLISH
BEGIN:VEVENT
UID:1106-comite-des-fetes-comite-des-fetes-puericulture-1@bradeur.fr
DTSTAMP:20260425T180712Z
DTSTART:20261004T090000
DTEND:20261004T170000
SUMMARY:Comité des Fêtes — Comite Des Fetes Puericulture
DESCRIPTION:Informations, programme et bons plans du Comité des Fêtes de 
 Cierrey\n\nDimanche 4 Octobre 2026\nde 9h00 à 17h00\n\nComité des Fêtes\
 n27930 Cierrey
LOCATION:27930 Cierrey
URL:https://bradeur.fr/braderie.php?slug=comite-des-fetes-comite-des-fetes-
 puericulture-1
END:VEVENT
END:VCALENDAR
