BEGIN:VCALENDAR
VERSION:2.0
PRODID:-//Bradeur.fr//FR
CALSCALE:GREGORIAN
METHOD:PUBLISH
BEGIN:VEVENT
UID:774-comite-des-fetes-de-ficheux-brocante@bradeur.fr
DTSTAMP:20260425T235855Z
DTSTART:20260501T080000
DTEND:20260501T170000
SUMMARY:Comité des Fêtes de Ficheux — Brocante
DESCRIPTION:Bienvenue sur le site officiel de la commune de Ficheux.\n\nVen
 dredi 1 Mai 2026\nde 8h00 à 17h00\n\nComité des Fêtes de Ficheux\n62173 
 Ficheux
LOCATION:62173 Ficheux
URL:https://bradeur.fr/braderie.php?slug=comite-des-fetes-de-ficheux-brocan
 te
END:VEVENT
END:VCALENDAR
