BEGIN:VCALENDAR
VERSION:2.0
PRODID:-//Bradeur.fr//FR
CALSCALE:GREGORIAN
METHOD:PUBLISH
BEGIN:VEVENT
UID:507-comite-des-fetes-de-flechin-cf-vide-dressings@bradeur.fr
DTSTAMP:20260425T180725Z
DTSTART:20260315T090000
DTEND:20260315T170000
SUMMARY:Comité des fêtes de Fléchin — Cf Vide Dressings
DESCRIPTION:Dimanche 15 Mars 2026\nde 9h00 à 17h00\n\nComité des fêtes d
 e Fléchin\n62960 Flechin
LOCATION:62960 Flechin
URL:https://bradeur.fr/braderie.php?slug=comite-des-fetes-de-flechin-cf-vid
 e-dressings
END:VEVENT
END:VCALENDAR
