BEGIN:VCALENDAR
VERSION:2.0
PRODID:-//Bradeur.fr//FR
CALSCALE:GREGORIAN
METHOD:PUBLISH
BEGIN:VEVENT
UID:887-comite-des-fetes-de-la-route-d-houplines-braderie@bradeur.fr
DTSTAMP:20260425T194325Z
DTSTART:20260524T080000
DTEND:20260524T150000
SUMMARY:Comité des fêtes de la route d'Houplines — Braderie
DESCRIPTION:Dimanche 24 Mai 2026\nde 8h00 à 15h00\n\nComité des fêtes de
  la route d'Houplines\n59280 Armentieres
LOCATION:59280 Armentieres
URL:https://bradeur.fr/braderie.php?slug=comite-des-fetes-de-la-route-d-hou
 plines-braderie
END:VEVENT
END:VCALENDAR
