BEGIN:VCALENDAR
VERSION:2.0
PRODID:-//Bradeur.fr//FR
CALSCALE:GREGORIAN
METHOD:PUBLISH
BEGIN:VEVENT
UID:622-comite-des-fetes-de-la-rue-wilson-vide-greniers@bradeur.fr
DTSTAMP:20260425T180712Z
DTSTART:20260406T060000
DTEND:20260406T140000
SUMMARY:comité des fêtes de la rue Wilson — Vide-greniers
DESCRIPTION:Somain est une commune française située dans le département 
 du département du Nord (59), en région Hauts-de-France.\n\nLundi 6 Avril 
 2026\nde 6h00 à 14h00\n\ncomité des fêtes de la rue Wilson\n59490 Somain
LOCATION:59490 Somain
URL:https://bradeur.fr/braderie.php?slug=comite-des-fetes-de-la-rue-wilson-
 vide-greniers
END:VEVENT
END:VCALENDAR
