BEGIN:VCALENDAR
VERSION:2.0
PRODID:-//Bradeur.fr//FR
CALSCALE:GREGORIAN
METHOD:PUBLISH
BEGIN:VEVENT
UID:615-comite-des-fetes-de-louches-brocante@bradeur.fr
DTSTAMP:20260425T205441Z
DTSTART:20260405T080000
DTEND:20260405T180000
SUMMARY:Comité des Fêtes de Louches — Brocante
DESCRIPTION:Dimanche 5 Avril 2026\nde 8h00 à 18h00\n\nComité des Fêtes d
 e Louches\n62610 Louches
LOCATION:62610 Louches
URL:https://bradeur.fr/braderie.php?slug=comite-des-fetes-de-louches-brocan
 te
END:VEVENT
END:VCALENDAR
