BEGIN:VCALENDAR
VERSION:2.0
PRODID:-//Bradeur.fr//FR
CALSCALE:GREGORIAN
METHOD:PUBLISH
BEGIN:VEVENT
UID:944-comite-des-fetes-de-mametz-vide-greniers@bradeur.fr
DTSTAMP:20260425T192848Z
DTSTART:20260607T080000
DTEND:20260607T170000
SUMMARY:Comité des Fêtes de Mametz — Vide-greniers
DESCRIPTION:Dimanche 7 Juin 2026\nde 8h00 à 17h00\n\nComité des Fêtes de
  Mametz\n62120 Mametz
LOCATION:62120 Mametz
URL:https://bradeur.fr/braderie.php?slug=comite-des-fetes-de-mametz-vide-gr
 eniers
END:VEVENT
END:VCALENDAR
