BEGIN:VCALENDAR
VERSION:2.0
PRODID:-//Bradeur.fr//FR
CALSCALE:GREGORIAN
METHOD:PUBLISH
BEGIN:VEVENT
UID:627-comite-des-fetes-de-rumaucourt-vide-greniers@bradeur.fr
DTSTAMP:20260425T180258Z
DTSTART:20260406T080000
DTEND:20260406T140000
SUMMARY:Comité des Fêtes de Rumaucourt — Vide-greniers
DESCRIPTION:site officiel de la commune de Rumaucourt\n\nLundi 6 Avril 2026
 \nde 8h00 à 14h00\n\nComité des Fêtes de Rumaucourt\n62860 Rumaucourt
LOCATION:62860 Rumaucourt
URL:https://bradeur.fr/braderie.php?slug=comite-des-fetes-de-rumaucourt-vid
 e-greniers
END:VEVENT
END:VCALENDAR
