BEGIN:VCALENDAR
VERSION:2.0
PRODID:-//Bradeur.fr//FR
CALSCALE:GREGORIAN
METHOD:PUBLISH
BEGIN:VEVENT
UID:1024-comite-des-fetes-de-sessevalle-vide-greniers@bradeur.fr
DTSTAMP:20260425T191423Z
DTSTART:20260726T060000
DTEND:20260726T170000
SUMMARY:Comité des Fêtes De Sessevalle — Vide-greniers
DESCRIPTION:Somain est une commune française située dans le département 
 du département du Nord (59), en région Hauts-de-France.\n\nDimanche 26 Ju
 illet 2026\nde 6h00 à 17h00\n\nComité des Fêtes De Sessevalle\n59490 Som
 ain
LOCATION:59490 Somain
URL:https://bradeur.fr/braderie.php?slug=comite-des-fetes-de-sessevalle-vid
 e-greniers
END:VEVENT
END:VCALENDAR
