BEGIN:VCALENDAR
VERSION:2.0
PRODID:-//Bradeur.fr//FR
CALSCALE:GREGORIAN
METHOD:PUBLISH
BEGIN:VEVENT
UID:1032-comite-des-fetes-de-villers-campeau-brocante@bradeur.fr
DTSTAMP:20260426T000315Z
DTSTART:20260802T060000
DTEND:20260802T150000
SUMMARY:ComitÃ© des FÃªtes de Villers Campeau â€” Brocante
DESCRIPTION:Somain est une commune franÃ§aise situÃ©e dans le dÃ©partement 
 du dÃ©partement du Nord (59), en rÃ©gion Hauts-de-France.\n\nDimanche 2 AoÃ
 »t 2026\nde 6h00 Ã  15h00\n\nComitÃ© des FÃªtes de Villers Campeau\n59490 S
 omain
LOCATION:59490 Somain
URL:https://bradeur.fr/braderie.php?slug=comite-des-fetes-de-villers-campea
 u-brocante
END:VEVENT
END:VCALENDAR
