BEGIN:VCALENDAR
VERSION:2.0
PRODID:-//Bradeur.fr//FR
CALSCALE:GREGORIAN
METHOD:PUBLISH
BEGIN:VEVENT
UID:609-comite-des-fetes-du-quartier-saint-druon-brocante@bradeur.fr
DTSTAMP:20260425T180507Z
DTSTART:20260405T060000
DTEND:20260405T180000
SUMMARY:Comité des Fêtes du quartier saint Druon — Brocante
DESCRIPTION:Dimanche 5 Avril 2026\nde 6h00 à 18h00\n\nComité des Fêtes d
 u quartier saint Druon\n59400 Cambrai
LOCATION:59400 Cambrai
URL:https://bradeur.fr/braderie.php?slug=comite-des-fetes-du-quartier-saint
 -druon-brocante
END:VEVENT
END:VCALENDAR
