BEGIN:VCALENDAR
VERSION:2.0
PRODID:-//Bradeur.fr//FR
CALSCALE:GREGORIAN
METHOD:PUBLISH
BEGIN:VEVENT
UID:595-comite-des-fetes-du-rosaire-brocante@bradeur.fr
DTSTAMP:20260425T180554Z
DTSTART:20260404T070000
DTEND:20260404T170000
SUMMARY:Comité des Fêtes du Rosaire — Brocante
DESCRIPTION:Au cœur du Cambrésis, Caudry conjugue le charme d’une commu
 ne de haute technicité avec les richesses d’une ville d’histoire et de
  traditions.\n\nSamedi 4 Avril 2026\nde 7h00 à 17h00\n\nComité des Fêtes
  du Rosaire\n59540 Caudry
LOCATION:59540 Caudry
URL:https://bradeur.fr/braderie.php?slug=comite-des-fetes-du-rosaire-brocan
 te
END:VEVENT
END:VCALENDAR
