BEGIN:VCALENDAR
VERSION:2.0
PRODID:-//Bradeur.fr//FR
CALSCALE:GREGORIAN
METHOD:PUBLISH
BEGIN:VEVENT
UID:1017-comite-des-fetes-foire@bradeur.fr
DTSTAMP:20260425T204534Z
DTSTART:20260718T060000
DTEND:20260719T170000
SUMMARY:Comité des Fêtes — Foire
DESCRIPTION:Informations, programme et bons plans du Comité des Fêtes de 
 Cierrey\n\nSamedi 18 Juillet 2026\nde 6h00 à 17h00\n\nDimanche 19 Juillet 
 2026\nde 6h00 à 17h00\n\nComité des Fêtes\n27930 Cierrey
LOCATION:27930 Cierrey
URL:https://bradeur.fr/braderie.php?slug=comite-des-fetes-foire
END:VEVENT
END:VCALENDAR
