BEGIN:VCALENDAR
VERSION:2.0
PRODID:-//Bradeur.fr//FR
CALSCALE:GREGORIAN
METHOD:PUBLISH
BEGIN:VEVENT
UID:688-comite-des-fetes-vide-greniers@bradeur.fr
DTSTAMP:20260425T180052Z
DTSTART:20260412T083000
DTEND:20260412T173000
SUMMARY:Comité des Fêtes — Vide-greniers
DESCRIPTION:Bienvenue sur le site officiel de Montgermont. Toutes les infor
 mations, actualités et services dont vous avez besoin vous y attendent : p
 résentation de la commune, services publics, démarches en ligne, actualit
 és, manifestations, newsletter…\n\nDimanche 12 Avril 2026\nde 8h30 à 17
 h30\n\nComité des Fêtes\n35760 Montgermont
LOCATION:35760 Montgermont
URL:https://bradeur.fr/braderie.php?slug=comite-des-fetes-vide-greniers
END:VEVENT
END:VCALENDAR
