BEGIN:VCALENDAR
VERSION:2.0
PRODID:-//Bradeur.fr//FR
CALSCALE:GREGORIAN
METHOD:PUBLISH
BEGIN:VEVENT
UID:757-comite-des-fetes-vide-greniers-1@bradeur.fr
DTSTAMP:20260425T174643Z
DTSTART:20260501T060000
DTEND:20260501T170000
SUMMARY:Comité des Fêtes — Vide-greniers
DESCRIPTION:Vendredi 1 Mai 2026\nde 6h00 à 17h00\n\nComité des Fêtes\n59
 285 Arneke
LOCATION:59285 Arneke
URL:https://bradeur.fr/braderie.php?slug=comite-des-fetes-vide-greniers-1
END:VEVENT
END:VCALENDAR
