BEGIN:VCALENDAR
VERSION:2.0
PRODID:-//Bradeur.fr//FR
CALSCALE:GREGORIAN
METHOD:PUBLISH
BEGIN:VEVENT
UID:796-comite-des-fetes-vide-greniers-2@bradeur.fr
DTSTAMP:20260425T204709Z
DTSTART:20260503T070000
DTEND:20260503T180000
SUMMARY:Comite des Fêtes — Vide-greniers
DESCRIPTION:Bienvenue sur le site de la mairie de Offekerque, petite commun
 e Française située dans le département du Pas-de-Calais en région Hauts
 -de-France.\n\nDimanche 3 Mai 2026\nde 7h00 à 18h00\n\nComite des Fêtes\n
 62370 Offekerque
LOCATION:62370 Offekerque
URL:https://bradeur.fr/braderie.php?slug=comite-des-fetes-vide-greniers-2
END:VEVENT
END:VCALENDAR
