BEGIN:VCALENDAR
VERSION:2.0
PRODID:-//Bradeur.fr//FR
CALSCALE:GREGORIAN
METHOD:PUBLISH
BEGIN:VEVENT
UID:831-comite-des-fetes-vide-greniers-3@bradeur.fr
DTSTAMP:20260425T191103Z
DTSTART:20260510T080000
DTEND:20260510T160000
SUMMARY:Comité des Fêtes — Vide-greniers
DESCRIPTION:Dimanche 10 Mai 2026\nde 8h00 à 16h00\n\nComité des Fêtes\n5
 9320 Sequedin
LOCATION:59320 Sequedin
URL:https://bradeur.fr/braderie.php?slug=comite-des-fetes-vide-greniers-3
END:VEVENT
END:VCALENDAR
