BEGIN:VCALENDAR
VERSION:2.0
PRODID:-//Bradeur.fr//FR
CALSCALE:GREGORIAN
METHOD:PUBLISH
BEGIN:VEVENT
UID:575-comite-du-cuyer-brocante@bradeur.fr
DTSTAMP:20260425T180016Z
DTSTART:20260329T080000
DTEND:20260329T150000
SUMMARY:Comité du Cuyer — Brocante
DESCRIPTION:Dimanche 29 Mars 2026\nde 8h00 à 15h00\n\nComité du Cuyer\n59
 230 Saint Amand Les Eaux
LOCATION:59230 Saint Amand Les Eaux
URL:https://bradeur.fr/braderie.php?slug=comite-du-cuyer-brocante
END:VEVENT
END:VCALENDAR
