BEGIN:VCALENDAR
VERSION:2.0
PRODID:-//Bradeur.fr//FR
CALSCALE:GREGORIAN
METHOD:PUBLISH
BEGIN:VEVENT
UID:1057-comite-du-quartier-vandamme-vide-greniers@bradeur.fr
DTSTAMP:20260425T180258Z
DTSTART:20260830T060000
DTEND:20260830T180000
SUMMARY:Comité du Quartier Vandamme — Vide-greniers
DESCRIPTION:Dimanche 30 Août 2026\nde 6h00 à 18h00\n\nComité du Quartier
  Vandamme\n59670 Cassel
LOCATION:59670 Cassel
URL:https://bradeur.fr/braderie.php?slug=comite-du-quartier-vandamme-vide-g
 reniers
END:VEVENT
END:VCALENDAR
