BEGIN:VCALENDAR
VERSION:2.0
PRODID:-//Bradeur.fr//FR
CALSCALE:GREGORIAN
METHOD:PUBLISH
BEGIN:VEVENT
UID:965-comite-du-rietz-vide-greniers@bradeur.fr
DTSTAMP:20260425T190902Z
DTSTART:20260614T080000
DTEND:20260614T170000
SUMMARY:Comité du Rietz — Vide-greniers
DESCRIPTION:Bienvenue sur le site officiel de la ville d'Arras. Découvrez 
 les actualités, événements et informations pratiques.\n\nDimanche 14 Jui
 n 2026\nde 8h00 à 17h00\n\nComité du Rietz\n62000 Arras
LOCATION:62000 Arras
URL:https://bradeur.fr/braderie.php?slug=comite-du-rietz-vide-greniers
END:VEVENT
END:VCALENDAR
