BEGIN:VCALENDAR
VERSION:2.0
PRODID:-//Bradeur.fr//FR
CALSCALE:GREGORIAN
METHOD:PUBLISH
BEGIN:VEVENT
UID:1114-comite-duquartierdelenglet-gmail-com-brocante@bradeur.fr
DTSTAMP:20260425T175857Z
DTSTART:20261011T080000
DTEND:20261011T170000
SUMMARY:comite.duquartierdelenglet@gmail.com â€” Brocante
DESCRIPTION:A L'AFFICHE EN MARS Ã€ L'AREA     \nTarif uniqueÂ  : 4â‚¬ la sÃ
 ©ance - Renseignement : Espace Culturel AREA au 03.74.18.20.26 â€“ area@ca-
 pso.fr Plus d'infos    \nLA SAISON CULTURELLE A L'AREA\n\nDimanche 11 Octob
 re 2026\nde 8h00 Ã  17h00\n\ncomite.duquartierdelenglet@gmail.com\n62120 Ai
 re Sur La Lys
LOCATION:62120 Aire Sur La Lys
URL:https://bradeur.fr/braderie.php?slug=comite-duquartierdelenglet-gmail-c
 om-brocante
END:VEVENT
END:VCALENDAR
