BEGIN:VCALENDAR
VERSION:2.0
PRODID:-//Bradeur.fr//FR
CALSCALE:GREGORIAN
METHOD:PUBLISH
BEGIN:VEVENT
UID:691-comite-inter-associatif-vide-greniers@bradeur.fr
DTSTAMP:20260425T180005Z
DTSTART:20260418T070000
DTEND:20260418T130000
SUMMARY:Comité Inter Associatif — Vide-greniers
DESCRIPTION:Bienvenue sur le site officiel de la ville d’Erquinghem-lys.\
 n\nSamedi 18 Avril 2026\nde 7h00 à 13h00\n\nComité Inter Associatif\n5919
 3 Erquinghem Lys
LOCATION:59193 Erquinghem Lys
URL:https://bradeur.fr/braderie.php?slug=comite-inter-associatif-vide-greni
 ers
END:VEVENT
END:VCALENDAR
