BEGIN:VCALENDAR
VERSION:2.0
PRODID:-//Bradeur.fr//FR
CALSCALE:GREGORIAN
METHOD:PUBLISH
BEGIN:VEVENT
UID:532-comite-rond-point-saint-roch-brocante@bradeur.fr
DTSTAMP:20260425T205024Z
DTSTART:20260328T080000
DTEND:20260328T160000
SUMMARY:Comité rond point Saint Roch — Brocante
DESCRIPTION:Samedi 28 Mars 2026\nde 8h00 à 16h00\n\nComité rond point Sai
 nt Roch\n59280 Armentieres
LOCATION:59280 Armentieres
URL:https://bradeur.fr/braderie.php?slug=comite-rond-point-saint-roch-broca
 nte
END:VEVENT
END:VCALENDAR
