BEGIN:VCALENDAR
VERSION:2.0
PRODID:-//Bradeur.fr//FR
CALSCALE:GREGORIAN
METHOD:PUBLISH
BEGIN:VEVENT
UID:760-comite-ucabp-puces@bradeur.fr
DTSTAMP:20260426T022316Z
DTSTART:20260501T080000
DTEND:20260501T160000
SUMMARY:Comité UCABP — Puces
DESCRIPTION:Vendredi 1 Mai 2026\nde 8h00 à 16h00\n\nComité UCABP\n59200 T
 ourcoing
LOCATION:59200 Tourcoing
URL:https://bradeur.fr/braderie.php?slug=comite-ucabp-puces
END:VEVENT
END:VCALENDAR
