BEGIN:VCALENDAR
VERSION:2.0
PRODID:-//Bradeur.fr//FR
CALSCALE:GREGORIAN
METHOD:PUBLISH
BEGIN:VEVENT
UID:1015-comitedesfetes62170-gmail-com-brocante@bradeur.fr
DTSTAMP:20260425T234959Z
DTSTART:20260718T140000
DTEND:20260718T220000
SUMMARY:comitedesfetes62170@gmail.com — Brocante
DESCRIPTION:Samedi 18 Juillet 2026\nde 14h00 à 22h00\n\ncomitedesfetes6217
 0@gmail.com\n62170 La Calotterie
LOCATION:62170 La Calotterie
URL:https://bradeur.fr/braderie.php?slug=comitedesfetes62170-gmail-com-broc
 ante
END:VEVENT
END:VCALENDAR
