BEGIN:VCALENDAR
VERSION:2.0
PRODID:-//Bradeur.fr//FR
CALSCALE:GREGORIAN
METHOD:PUBLISH
BEGIN:VEVENT
UID:1021-comites-des-fetes-de-sec-bois-brocante@bradeur.fr
DTSTAMP:20260425T221007Z
DTSTART:20260725T070000
DTEND:20260725T160000
SUMMARY:comités des fêtes de Sec-Bois — Brocante
DESCRIPTION:Site officiel de Cœur de Flandre agglo - Retrouvez tous les se
 rvices, les infos pratiques, les actualités et événements de l'intercomm
 unalité\n\nSamedi 25 Juillet 2026\nde 7h00 à 16h00\n\ncomités des fêtes
  de Sec-Bois\n59232 Vieux Berquin
LOCATION:59232 Vieux Berquin
URL:https://bradeur.fr/braderie.php?slug=comites-des-fetes-de-sec-bois-broc
 ante
END:VEVENT
END:VCALENDAR
