BEGIN:VCALENDAR
VERSION:2.0
PRODID:-//Bradeur.fr//FR
CALSCALE:GREGORIAN
METHOD:PUBLISH
BEGIN:VEVENT
UID:1060-conseil-citoyen-brocante-1@bradeur.fr
DTSTAMP:20260425T205409Z
DTSTART:20260830T073000
DTEND:20260830T180000
SUMMARY:Conseil Citoyen â€” Brocante
DESCRIPTION:A L'AFFICHE EN MARS Ã€ L'AREA     \nTarif uniqueÂ  : 4â‚¬ la sÃ
 ©ance - Renseignement : Espace Culturel AREA au 03.74.18.20.26 â€“ area@ca-
 pso.fr Plus d'infos    \nLA SAISON CULTURELLE A L'AREA\n\nDimanche 30 AoÃ»t
  2026\nde 7h30 Ã  18h00\n\nConseil Citoyen\n62120 Aire Sur La Lys
LOCATION:62120 Aire Sur La Lys
URL:https://bradeur.fr/braderie.php?slug=conseil-citoyen-brocante-1
END:VEVENT
END:VCALENDAR
