BEGIN:VCALENDAR
VERSION:2.0
PRODID:-//Bradeur.fr//FR
CALSCALE:GREGORIAN
METHOD:PUBLISH
BEGIN:VEVENT
UID:723-conseil-citoyen-des-provinces-longues-trinques-puces@bradeur.fr
DTSTAMP:20260426T032726Z
DTSTART:20260425T080000
DTEND:20260425T170000
SUMMARY:Conseil Citoyen des Provinces Longues Trinques — Puces
DESCRIPTION:Samedi 25 Avril 2026\nde 8h00 à 17h00\n\nConseil Citoyen des P
 rovinces Longues Trinques\n62260 Cauchy A La Tour
LOCATION:62260 Cauchy A La Tour
URL:https://bradeur.fr/braderie.php?slug=conseil-citoyen-des-provinces-long
 ues-trinques-puces
END:VEVENT
END:VCALENDAR
