BEGIN:VCALENDAR
VERSION:2.0
PRODID:-//Bradeur.fr//FR
CALSCALE:GREGORIAN
METHOD:PUBLISH
BEGIN:VEVENT
UID:655-couvent-castel-nazareth-couvent-castel-nazareth@bradeur.fr
DTSTAMP:20260425T180507Z
DTSTART:20260411T100000
DTEND:20260411T170000
SUMMARY:Couvent Castel Nazareth — Couvent Castel Nazareth
DESCRIPTION:Samedi 11 Avril 2026\nde 10h00 à 17h00\n\nCouvent Castel Nazar
 eth\n77310 Boissise Le Roi\n\nℹ️ Seul l'organisateur expose — aucun e
 mplacement à réserver
LOCATION:77310 Boissise Le Roi
URL:https://bradeur.fr/braderie.php?slug=couvent-castel-nazareth-couvent-ca
 stel-nazareth
END:VEVENT
END:VCALENDAR
