BEGIN:VCALENDAR
VERSION:2.0
PRODID:-//Bradeur.fr//FR
CALSCALE:GREGORIAN
METHOD:PUBLISH
BEGIN:VEVENT
UID:550-cps-club-philatelique-des-sablons-bourse-collections@bradeur.fr
DTSTAMP:20260425T180600Z
DTSTART:20260328T090000
DTEND:20260328T180000
SUMMARY:CPS Club Philatélique des Sablons — Bourse Collections
DESCRIPTION:Samedi 28 Mars 2026\nde 9h00 à 18h00\n\nCPS Club Philatélique
  des Sablons\n72100 Le Mans
LOCATION:72100 Le Mans
URL:https://bradeur.fr/braderie.php?slug=cps-club-philatelique-des-sablons-
 bourse-collections
END:VEVENT
END:VCALENDAR
