BEGIN:VCALENDAR
VERSION:2.0
PRODID:-//Bradeur.fr//FR
CALSCALE:GREGORIAN
METHOD:PUBLISH
BEGIN:VEVENT
UID:516-cree-papote-bourse-solidaire-a-marcq-en-baroeul@bradeur.fr
DTSTAMP:20260425T180554Z
DTSTART:20260328T093000
DTEND:20260328T173000
SUMMARY:Cree Papote Bourse Solidaire à Marcq En Baroeul
DESCRIPTION:Samedi 28 Mars 2026\nde 9h30 à 17h30\n\n59700 Marcq En Baroeul
 \n\nℹ️ Seul l'organisateur expose — aucun emplacement à réserver
LOCATION:59700 Marcq En Baroeul
URL:https://bradeur.fr/braderie.php?slug=cree-papote-bourse-solidaire-a-mar
 cq-en-baroeul
END:VEVENT
END:VCALENDAR
